BEGIN:VCALENDAR
VERSION:2.0
PRODID:-//SUPRA - ECPv6.15.20//NONSGML v1.0//EN
CALSCALE:GREGORIAN
METHOD:PUBLISH
X-WR-CALNAME:SUPRA
X-ORIGINAL-URL:https://supra.cc
X-WR-CALDESC:Events for SUPRA
REFRESH-INTERVAL;VALUE=DURATION:PT1H
X-Robots-Tag:noindex
X-PUBLISHED-TTL:PT1H
BEGIN:VTIMEZONE
TZID:UTC
BEGIN:STANDARD
TZOFFSETFROM:+0000
TZOFFSETTO:+0000
TZNAME:UTC
DTSTART:20250101T000000
END:STANDARD
END:VTIMEZONE
BEGIN:VEVENT
DTSTART;TZID=UTC:20260719T133000
DTEND;TZID=UTC:20260721T170000
DTSTAMP:20260423T190723
CREATED:20260224T182708Z
LAST-MODIFIED:20260224T182708Z
UID:2287-1784467800-1784653200@supra.cc
SUMMARY:ACCSES 2026 Summer Conference
DESCRIPTION:
URL:https://supra.cc/event/accses-2026-summer-conference/
LOCATION:Fairmont Washington\, 2401 M St NW\, Washington DC\, DC\, 20037\, United States
END:VEVENT
END:VCALENDAR