BEGIN:VCALENDAR
VERSION:2.0
PRODID:-//SUPRA - ECPv6.15.20//NONSGML v1.0//EN
CALSCALE:GREGORIAN
METHOD:PUBLISH
X-ORIGINAL-URL:https://supra.cc
X-WR-CALDESC:Events for SUPRA
REFRESH-INTERVAL;VALUE=DURATION:PT1H
X-Robots-Tag:noindex
X-PUBLISHED-TTL:PT1H
BEGIN:VTIMEZONE
TZID:UTC
BEGIN:STANDARD
TZOFFSETFROM:+0000
TZOFFSETTO:+0000
TZNAME:UTC
DTSTART:20250101T000000
END:STANDARD
END:VTIMEZONE
BEGIN:VEVENT
DTSTART;VALUE=DATE:20261006
DTEND;VALUE=DATE:20261009
DTSTAMP:20260423T233456
CREATED:20260224T182016Z
LAST-MODIFIED:20260409T151231Z
UID:2283-1791244800-1791503999@supra.cc
SUMMARY:ACCSES NJ STAR Conference
DESCRIPTION:
URL:https://supra.cc/event/accses-nj-annual-conference/
LOCATION:Hard Rock Hotel & Casino\, 1000 Boardwalk\, Atlantic City\, NJ\, 08401\, United States
ORGANIZER;CN="Sal Coppola":MAILTO:scoppola@accsesnj.org
END:VEVENT
END:VCALENDAR