BEGIN:VCALENDAR
VERSION:2.0
PRODID:-//SUPRA - ECPv6.15.20//NONSGML v1.0//EN
CALSCALE:GREGORIAN
METHOD:PUBLISH
X-WR-CALNAME:SUPRA
X-ORIGINAL-URL:https://supra.cc
X-WR-CALDESC:Events for SUPRA
REFRESH-INTERVAL;VALUE=DURATION:PT1H
X-Robots-Tag:noindex
X-PUBLISHED-TTL:PT1H
BEGIN:VTIMEZONE
TZID:UTC
BEGIN:STANDARD
TZOFFSETFROM:+0000
TZOFFSETTO:+0000
TZNAME:UTC
DTSTART:20250101T000000
END:STANDARD
END:VTIMEZONE
BEGIN:VEVENT
DTSTART;VALUE=DATE:20260518
DTEND;VALUE=DATE:20260521
DTSTAMP:20260423T191332
CREATED:20260224T185146Z
LAST-MODIFIED:20260224T185146Z
UID:2296-1779062400-1779321599@supra.cc
SUMMARY:SourceAmerica Xforce 2026 National Conference
DESCRIPTION:
URL:https://supra.cc/event/sourceamerica-xforce-2026-national-conference/
LOCATION:Gaylord Texan Resort and Convention Center\, 1501 Gaylord Trail\, Grapevine\, TX\, 76051\, United States
END:VEVENT
END:VCALENDAR